BEGIN:VCALENDAR
VERSION:2.0
PRODID:-//Seishinkai Aikido - ECPv6.15.20//NONSGML v1.0//EN
CALSCALE:GREGORIAN
METHOD:PUBLISH
X-WR-CALNAME:Seishinkai Aikido
X-ORIGINAL-URL:https://seishinkai.org
X-WR-CALDESC:Veranstaltungen für Seishinkai Aikido
REFRESH-INTERVAL;VALUE=DURATION:PT1H
X-Robots-Tag:noindex
X-PUBLISHED-TTL:PT1H
BEGIN:VTIMEZONE
TZID:Europe/Berlin
BEGIN:DAYLIGHT
TZOFFSETFROM:+0100
TZOFFSETTO:+0200
TZNAME:CEST
DTSTART:20210328T010000
END:DAYLIGHT
BEGIN:STANDARD
TZOFFSETFROM:+0200
TZOFFSETTO:+0100
TZNAME:CET
DTSTART:20211031T010000
END:STANDARD
BEGIN:DAYLIGHT
TZOFFSETFROM:+0100
TZOFFSETTO:+0200
TZNAME:CEST
DTSTART:20220327T010000
END:DAYLIGHT
BEGIN:STANDARD
TZOFFSETFROM:+0200
TZOFFSETTO:+0100
TZNAME:CET
DTSTART:20221030T010000
END:STANDARD
BEGIN:DAYLIGHT
TZOFFSETFROM:+0100
TZOFFSETTO:+0200
TZNAME:CEST
DTSTART:20230326T010000
END:DAYLIGHT
BEGIN:STANDARD
TZOFFSETFROM:+0200
TZOFFSETTO:+0100
TZNAME:CET
DTSTART:20231029T010000
END:STANDARD
END:VTIMEZONE
BEGIN:VEVENT
DTSTART;TZID=Europe/Berlin:20220806T150000
DTEND;TZID=Europe/Berlin:20220813T090000
DTSTAMP:20260424T050831
CREATED:20220331T132642Z
LAST-MODIFIED:20220528T140746Z
UID:214-1659798000-1660381200@seishinkai.org
SUMMARY:Seishinkai Aikidosommer 2022
DESCRIPTION:Du gehst nicht zweimal ins gleiche Training und schlägst nicht zweimal den gleichen Shomen. Das Leben fließt ganz wunderbar. Aber um das umfangen zu können\, braucht es eine starke Mitte\, Zentriertheit\, den Mut oberflächliche Spannungen loszulassen und die Lust zu trainieren! \n\n\n \nDieses einmalige Sommer Seminar beschäftigt sich mit der ganzen großen Bandbreite des Seishinkai Aikido – Meditation\, Budo Essentials\, Aiki Ken\, Ken-Jutsu\, Aiki Jo und Jo-Jutsu und natürlich Aikido. \n\n\n \nUnterrichtende:Thor Schoo\, 6. Dan – Markus Röllig\, 5. Dan – Mirjam Fischer\, 5. Dan – Annette Röllig\, 4. Dan. \n\n\n \nSichere Dir noch heute Dein Ticket für den Aikido Sommer 2022! \n Hier geht es zur Anmeldung \nWeitere Infos auf www.aikidosommer.de
URL:https://seishinkai.org/event/seishinkai-aikidosommer-2022/
LOCATION:Wewelsburg\, Burgwall 17\, Büren\, Nordrhein Westfalen\, 33142\, Deutschland
CATEGORIES:Seishinkai Aikido Lehrgänge
ATTACH;FMTTYPE=image/jpeg:https://seishinkai.org/wp-content/uploads/2022/03/DSCF2610-scaled-1.jpg
ORGANIZER;CN="SEISHINKAI AIKIDO e.V.":MAILTO:anmeldung@seishinkai.org
END:VEVENT
END:VCALENDAR