BEGIN:VCALENDAR
VERSION:2.0
PRODID:-//Seishinkai Aikido - ECPv6.15.20//NONSGML v1.0//EN
CALSCALE:GREGORIAN
METHOD:PUBLISH
X-ORIGINAL-URL:https://seishinkai.org
X-WR-CALDESC:Veranstaltungen für Seishinkai Aikido
REFRESH-INTERVAL;VALUE=DURATION:PT1H
X-Robots-Tag:noindex
X-PUBLISHED-TTL:PT1H
BEGIN:VTIMEZONE
TZID:Europe/Berlin
BEGIN:DAYLIGHT
TZOFFSETFROM:+0100
TZOFFSETTO:+0200
TZNAME:CEST
DTSTART:20210328T010000
END:DAYLIGHT
BEGIN:STANDARD
TZOFFSETFROM:+0200
TZOFFSETTO:+0100
TZNAME:CET
DTSTART:20211031T010000
END:STANDARD
BEGIN:DAYLIGHT
TZOFFSETFROM:+0100
TZOFFSETTO:+0200
TZNAME:CEST
DTSTART:20220327T010000
END:DAYLIGHT
BEGIN:STANDARD
TZOFFSETFROM:+0200
TZOFFSETTO:+0100
TZNAME:CET
DTSTART:20221030T010000
END:STANDARD
BEGIN:DAYLIGHT
TZOFFSETFROM:+0100
TZOFFSETTO:+0200
TZNAME:CEST
DTSTART:20230326T010000
END:DAYLIGHT
BEGIN:STANDARD
TZOFFSETFROM:+0200
TZOFFSETTO:+0100
TZNAME:CET
DTSTART:20231029T010000
END:STANDARD
END:VTIMEZONE
BEGIN:VEVENT
DTSTART;TZID=Europe/Berlin:20221015T110000
DTEND;TZID=Europe/Berlin:20221016T130000
DTSTAMP:20260424T013654
CREATED:20220515T100020Z
LAST-MODIFIED:20220930T090428Z
UID:404-1665831600-1665925200@seishinkai.org
SUMMARY:Seishinkai Herbstlehrgang
DESCRIPTION:Leitung: Thor Schoo Sensei\, 6. Dan \nSamstag: Intensivlehrgang 12:00-14:30 und 15:30-18:00  /  gemeinsames Abendessen um 19:00 Uhr \nSonntag: Basislehrgang und Kyu-Passagen 11:00-14:00 \nTeilnahmegebühren \nSamstag: 50 € \nSonntag: 30 €  (25 € für Seishinkai Mitglieder – Kyu-Passagiere zahlen lediglich die Passagengebühr) \n 
URL:https://seishinkai.org/event/seishinkai-herbstlehrgang/
LOCATION:SEISHINKAI Hombu Dojo\, Alt-Bornheim 35\, Frankfurt am Main\, 60385\, Deutschland
CATEGORIES:Seishinkai Aikido Lehrgänge
ATTACH;FMTTYPE=image/jpeg:https://seishinkai.org/wp-content/uploads/2022/03/Herbst-27.10.19.jpeg
ORGANIZER;CN="SEISHINKAI AIKIDO e.V.":MAILTO:anmeldung@seishinkai.org
END:VEVENT
END:VCALENDAR