BEGIN:VCALENDAR
VERSION:2.0
PRODID:-//Seishinkai Aikido - ECPv6.15.20//NONSGML v1.0//EN
CALSCALE:GREGORIAN
METHOD:PUBLISH
X-WR-CALNAME:Seishinkai Aikido
X-ORIGINAL-URL:https://seishinkai.org
X-WR-CALDESC:Veranstaltungen für Seishinkai Aikido
REFRESH-INTERVAL;VALUE=DURATION:PT1H
X-Robots-Tag:noindex
X-PUBLISHED-TTL:PT1H
BEGIN:VTIMEZONE
TZID:Europe/Berlin
BEGIN:DAYLIGHT
TZOFFSETFROM:+0100
TZOFFSETTO:+0200
TZNAME:CEST
DTSTART:20220327T010000
END:DAYLIGHT
BEGIN:STANDARD
TZOFFSETFROM:+0200
TZOFFSETTO:+0100
TZNAME:CET
DTSTART:20221030T010000
END:STANDARD
BEGIN:DAYLIGHT
TZOFFSETFROM:+0100
TZOFFSETTO:+0200
TZNAME:CEST
DTSTART:20230326T010000
END:DAYLIGHT
BEGIN:STANDARD
TZOFFSETFROM:+0200
TZOFFSETTO:+0100
TZNAME:CET
DTSTART:20231029T010000
END:STANDARD
BEGIN:DAYLIGHT
TZOFFSETFROM:+0100
TZOFFSETTO:+0200
TZNAME:CEST
DTSTART:20240331T010000
END:DAYLIGHT
BEGIN:STANDARD
TZOFFSETFROM:+0200
TZOFFSETTO:+0100
TZNAME:CET
DTSTART:20241027T010000
END:STANDARD
END:VTIMEZONE
BEGIN:VEVENT
DTSTART;TZID=Europe/Berlin:20230422T120000
DTEND;TZID=Europe/Berlin:20230422T173000
DTSTAMP:20260423T134141
CREATED:20221106T201723Z
LAST-MODIFIED:20230227T152128Z
UID:940-1682164800-1682184600@seishinkai.org
SUMMARY:Seishinkai Frühlingslehrgang - Tag 1
DESCRIPTION:Leitung: Thor Schoo Sensei\, 6. Dan \nGebühr: 50 € \nPause von 14:30 bis 15:00 \nHier Ticket online kaufen für Teil 1 (Samstag)\nHinweis: Das Ticket für den zweiten Tag (Sonntag) ist separat zu erwerben – siehe entsprechenden Termin
URL:https://seishinkai.org/event/seishinkai-fruehlingslehrgang-tag-1/
LOCATION:SEISHINKAI Hombu Dojo\, Alt-Bornheim 35\, Frankfurt am Main\, 60385\, Deutschland
CATEGORIES:Seishinkai Aikido Lehrgänge
ATTACH;FMTTYPE=image/jpeg:https://seishinkai.org/wp-content/uploads/2022/05/pexels-pixabay-210547-scaled.jpg
ORGANIZER;CN="Balance Athletics Aikido":MAILTO:info@balanceathletics.de
END:VEVENT
BEGIN:VEVENT
DTSTART;TZID=Europe/Berlin:20230423T110000
DTEND;TZID=Europe/Berlin:20230423T140000
DTSTAMP:20260423T134141
CREATED:20221106T201942Z
LAST-MODIFIED:20230227T152149Z
UID:942-1682247600-1682258400@seishinkai.org
SUMMARY:Seishinkai Frühlingslehrgang - Tag 2 (Passagen)
DESCRIPTION:Leitung: Thor Schoo Sensei\, 6. Dan \nTeilnahmegebühren: 30 € (25 € für Seishinkai Mitglieder – Kyu-Passagiere zahlen lediglich die Passagengebühr) \nHier Ticket online kaufen für Teil 2 (Sonntag)\nHinweis: Das Ticket für den ersten Tag (Samstag) ist separat zu erwerben – siehe entsprechenden Termin
URL:https://seishinkai.org/event/seishinkai-fruehlingslehrgang-tag-2-passagen/
LOCATION:SEISHINKAI Hombu Dojo\, Alt-Bornheim 35\, Frankfurt am Main\, 60385\, Deutschland
ATTACH;FMTTYPE=image/jpeg:https://seishinkai.org/wp-content/uploads/2022/05/pexels-pixabay-210547-scaled.jpg
ORGANIZER;CN="SEISHINKAI AIKIDO e.V.":MAILTO:anmeldung@seishinkai.org
END:VEVENT
END:VCALENDAR