BEGIN:VCALENDAR
VERSION:2.0
PRODID:-//Seishinkai Aikido - ECPv6.15.20//NONSGML v1.0//EN
CALSCALE:GREGORIAN
METHOD:PUBLISH
X-WR-CALNAME:Seishinkai Aikido
X-ORIGINAL-URL:https://seishinkai.org
X-WR-CALDESC:Veranstaltungen für Seishinkai Aikido
REFRESH-INTERVAL;VALUE=DURATION:PT1H
X-Robots-Tag:noindex
X-PUBLISHED-TTL:PT1H
BEGIN:VTIMEZONE
TZID:Europe/Berlin
BEGIN:DAYLIGHT
TZOFFSETFROM:+0100
TZOFFSETTO:+0200
TZNAME:CEST
DTSTART:20220327T010000
END:DAYLIGHT
BEGIN:STANDARD
TZOFFSETFROM:+0200
TZOFFSETTO:+0100
TZNAME:CET
DTSTART:20221030T010000
END:STANDARD
BEGIN:DAYLIGHT
TZOFFSETFROM:+0100
TZOFFSETTO:+0200
TZNAME:CEST
DTSTART:20230326T010000
END:DAYLIGHT
BEGIN:STANDARD
TZOFFSETFROM:+0200
TZOFFSETTO:+0100
TZNAME:CET
DTSTART:20231029T010000
END:STANDARD
BEGIN:DAYLIGHT
TZOFFSETFROM:+0100
TZOFFSETTO:+0200
TZNAME:CEST
DTSTART:20240331T010000
END:DAYLIGHT
BEGIN:STANDARD
TZOFFSETFROM:+0200
TZOFFSETTO:+0100
TZNAME:CET
DTSTART:20241027T010000
END:STANDARD
END:VTIMEZONE
BEGIN:VEVENT
DTSTART;TZID=Europe/Berlin:20230617T120000
DTEND;TZID=Europe/Berlin:20230617T173000
DTSTAMP:20260423T085119
CREATED:20221106T194528Z
LAST-MODIFIED:20230227T150526Z
UID:935-1687003200-1687023000@seishinkai.org
SUMMARY:Seishinkai Yudansha Seminar Juni – offen für alle Stile & Verbände
DESCRIPTION:Teilnahme ab 1. Kyu – zur Vorbereitung auf Dan-Graduierungen oder „einfach nur“ für fortgeschrittenes Training. \nTeilnahmegebühr: 35 € (25 € für Seishinkai Mitglieder) \nPause von 14.30 – 15.00 \nHier Ticket online kaufen
URL:https://seishinkai.org/event/seishinkai-yudansha-seminar-juni-offen-fuer-alle-stile-verbaende/
LOCATION:SEISHINKAI Hombu Dojo\, Alt-Bornheim 35\, Frankfurt am Main\, 60385\, Deutschland
CATEGORIES:Seishinkai Aikido Lehrgänge
ATTACH;FMTTYPE=image/jpeg:https://seishinkai.org/wp-content/uploads/2022/05/SchwarzerGuertel.jpg
ORGANIZER;CN="SEISHINKAI AIKIDO e.V.":MAILTO:anmeldung@seishinkai.org
END:VEVENT
END:VCALENDAR