BEGIN:VCALENDAR
VERSION:2.0
PRODID:-//Seishinkai Aikido - ECPv6.15.20//NONSGML v1.0//EN
CALSCALE:GREGORIAN
METHOD:PUBLISH
X-WR-CALNAME:Seishinkai Aikido
X-ORIGINAL-URL:https://seishinkai.org
X-WR-CALDESC:Veranstaltungen für Seishinkai Aikido
REFRESH-INTERVAL;VALUE=DURATION:PT1H
X-Robots-Tag:noindex
X-PUBLISHED-TTL:PT1H
BEGIN:VTIMEZONE
TZID:Europe/Berlin
BEGIN:DAYLIGHT
TZOFFSETFROM:+0100
TZOFFSETTO:+0200
TZNAME:CEST
DTSTART:20220327T010000
END:DAYLIGHT
BEGIN:STANDARD
TZOFFSETFROM:+0200
TZOFFSETTO:+0100
TZNAME:CET
DTSTART:20221030T010000
END:STANDARD
BEGIN:DAYLIGHT
TZOFFSETFROM:+0100
TZOFFSETTO:+0200
TZNAME:CEST
DTSTART:20230326T010000
END:DAYLIGHT
BEGIN:STANDARD
TZOFFSETFROM:+0200
TZOFFSETTO:+0100
TZNAME:CET
DTSTART:20231029T010000
END:STANDARD
BEGIN:DAYLIGHT
TZOFFSETFROM:+0100
TZOFFSETTO:+0200
TZNAME:CEST
DTSTART:20240331T010000
END:DAYLIGHT
BEGIN:STANDARD
TZOFFSETFROM:+0200
TZOFFSETTO:+0100
TZNAME:CET
DTSTART:20241027T010000
END:STANDARD
END:VTIMEZONE
BEGIN:VEVENT
DTSTART;VALUE=DATE:20230805
DTEND;VALUE=DATE:20230814
DTSTAMP:20260423T051530
CREATED:20221106T195303Z
LAST-MODIFIED:20230625T135052Z
UID:937-1691204400-1691895599@seishinkai.org
SUMMARY:Seishinkai Aikidosommer 2023
DESCRIPTION:Hier Ticket für die Dan-Passage kaufen\n \nAlle Infos und Tickets auf aikidosommer.de\nVier Senseis führen dich durch die gesamte Bandbreite von Aikido\, Ken-Jutsu\, Jo-Jutsu\, Budo Essentials und Meditation. Damit ist das einwöchige Sommerseminar des Seishinikai Aikido Verbands einmalig – und findet doch jährlich statt.\nAuf diesem Aikido Sommerlehrgang stellt sich richtiges Aikido Sommercamp Feeling ein – auch ohne Zelte und Strand. \nDenn die Jugendherberge in der Wewelsburg bei Büren/Paderborn bietet vom 5. bis 12. August 2023 ideale Bedingungen für Training\, Unterbringung und Freizeit. \nDie Kunst\, das Leben fließen zu lassen… Dafür braucht es den Mut\, oberflächliche Spannungen loszulassen\, eine starke Mitte und die Lust zu trainieren! Besuche aikidosommer.de für mehr Infos oder sichere dir jetzt gleich dein Ticket für den SEISHINKAI AIKIDOSOMMER 2023. \n\n\n\nUnterrichtende: Thor Schoo\, 6. Dan | Markus Röllig\, 5. Dan | Mirjam Fischer\, 5. Dan | Annette Röllig\, 4. Dan \n\n\n\n        
URL:https://seishinkai.org/event/seishinkai-aikidosommer-2023/
LOCATION:Wewelsburg\, Burgwall 17\, Büren\, Nordrhein Westfalen\, 33142\, Deutschland
CATEGORIES:Seishinkai Aikido Lehrgänge
ATTACH;FMTTYPE=image/jpeg:https://seishinkai.org/wp-content/uploads/2023/01/DSC_2426-1-scaled.jpg
ORGANIZER;CN="SEISHINKAI AIKIDO e.V.":MAILTO:anmeldung@seishinkai.org
END:VEVENT
END:VCALENDAR