BEGIN:VCALENDAR
VERSION:2.0
PRODID:-//Seishinkai Aikido - ECPv6.15.20//NONSGML v1.0//EN
CALSCALE:GREGORIAN
METHOD:PUBLISH
X-WR-CALNAME:Seishinkai Aikido
X-ORIGINAL-URL:https://seishinkai.org
X-WR-CALDESC:Veranstaltungen für Seishinkai Aikido
REFRESH-INTERVAL;VALUE=DURATION:PT1H
X-Robots-Tag:noindex
X-PUBLISHED-TTL:PT1H
BEGIN:VTIMEZONE
TZID:Europe/Berlin
BEGIN:DAYLIGHT
TZOFFSETFROM:+0100
TZOFFSETTO:+0200
TZNAME:CEST
DTSTART:20240331T010000
END:DAYLIGHT
BEGIN:STANDARD
TZOFFSETFROM:+0200
TZOFFSETTO:+0100
TZNAME:CET
DTSTART:20241027T010000
END:STANDARD
BEGIN:DAYLIGHT
TZOFFSETFROM:+0100
TZOFFSETTO:+0200
TZNAME:CEST
DTSTART:20250330T010000
END:DAYLIGHT
BEGIN:STANDARD
TZOFFSETFROM:+0200
TZOFFSETTO:+0100
TZNAME:CET
DTSTART:20251026T010000
END:STANDARD
BEGIN:DAYLIGHT
TZOFFSETFROM:+0100
TZOFFSETTO:+0200
TZNAME:CEST
DTSTART:20260329T010000
END:DAYLIGHT
BEGIN:STANDARD
TZOFFSETFROM:+0200
TZOFFSETTO:+0100
TZNAME:CET
DTSTART:20261025T010000
END:STANDARD
END:VTIMEZONE
BEGIN:VEVENT
DTSTART;TZID=Europe/Berlin:20250329T120000
DTEND;TZID=Europe/Berlin:20250330T140000
DTSTAMP:20260421T142512
CREATED:20240223T081040Z
LAST-MODIFIED:20250126T205219Z
UID:1089-1743249600-1743343200@seishinkai.org
SUMMARY:Seishinkai Aikido Frühlingslehrgang - 29. - 30. März 2025
DESCRIPTION:Leitung: Thor Schoo Sensei\, 6. Dan \nSamstag: Intensivlehrgang 12:00-14:30 und 15:00-17:30 / gemeinsames Abendessen um 19:00 Uhr \nSonntag: Basislehrgang und Kyu-Passagen 11:00-14:00 (im Aikido Zentrum Offenbach\, Leitung: Markus Röllig\, 5. Dan) \nTeilnahmegebühren \nSamstag: 50 € \nSonntag: 30 € (25 € für Seishinkai Mitglieder \n  \nHier Ticket online kaufen für Teil 1 (Samstag)\nHier Ticket online kaufen für Teil 2 (Sonntag)\n\n  \nAchtung Passagiere: Bitte zusätzlich zum Lehrgangsticket noch das Passagen-Ticket buchen.\nHier Ticket online für die Passage kaufen
URL:https://seishinkai.org/event/seishinkai-aikido-fruehlingslehrgang/
LOCATION:SEISHINKAI Hombu Dojo\, Alt-Bornheim 35\, Frankfurt am Main\, 60385\, Deutschland
CATEGORIES:Seishinkai Aikido Lehrgänge
ATTACH;FMTTYPE=image/jpeg:https://seishinkai.org/wp-content/uploads/2022/05/pexels-airin-party-928971-scaled.jpg
ORGANIZER;CN="SEISHINKAI AIKIDO e.V.":MAILTO:anmeldung@seishinkai.org
END:VEVENT
BEGIN:VEVENT
DTSTART;TZID=Europe/Berlin:20250329T180000
DTEND;TZID=Europe/Berlin:20250329T193000
DTSTAMP:20260421T142512
CREATED:20221209T150252Z
LAST-MODIFIED:20250203T200736Z
UID:989-1743271200-1743276600@seishinkai.org
SUMMARY:Jahreshauptversammlung des Seishinkai Aikido e.V.
DESCRIPTION:Jahreshauptversammlung für alle Mitglieder des Seishinkai e.V.
URL:https://seishinkai.org/event/jahreshauptversammlung-des-seishinkai-aikido-e-v/
LOCATION:SEISHINKAI Hombu Dojo\, Alt-Bornheim 35\, Frankfurt am Main\, 60385\, Deutschland
ATTACH;FMTTYPE=image/jpeg:https://seishinkai.org/wp-content/uploads/2022/07/Header_Sei-Logo-Shin.jpg
ORGANIZER;CN="SEISHINKAI AIKIDO e.V.":MAILTO:anmeldung@seishinkai.org
END:VEVENT
END:VCALENDAR